BEGIN:VCALENDAR
VERSION:2.0
PRODID:-//Centro del Titere - ECPv6.15.20//NONSGML v1.0//EN
CALSCALE:GREGORIAN
METHOD:PUBLISH
X-WR-CALNAME:Centro del Titere
X-ORIGINAL-URL:https://centrodeltitere.com
X-WR-CALDESC:Eventos para Centro del Titere
REFRESH-INTERVAL;VALUE=DURATION:PT1H
X-Robots-Tag:noindex
X-PUBLISHED-TTL:PT1H
BEGIN:VTIMEZONE
TZID:Europe/Madrid
BEGIN:DAYLIGHT
TZOFFSETFROM:+0100
TZOFFSETTO:+0200
TZNAME:CEST
DTSTART:20240331T010000
END:DAYLIGHT
BEGIN:STANDARD
TZOFFSETFROM:+0200
TZOFFSETTO:+0100
TZNAME:CET
DTSTART:20241027T010000
END:STANDARD
BEGIN:DAYLIGHT
TZOFFSETFROM:+0100
TZOFFSETTO:+0200
TZNAME:CEST
DTSTART:20250330T010000
END:DAYLIGHT
BEGIN:STANDARD
TZOFFSETFROM:+0200
TZOFFSETTO:+0100
TZNAME:CET
DTSTART:20251026T010000
END:STANDARD
BEGIN:DAYLIGHT
TZOFFSETFROM:+0100
TZOFFSETTO:+0200
TZNAME:CEST
DTSTART:20260329T010000
END:DAYLIGHT
BEGIN:STANDARD
TZOFFSETFROM:+0200
TZOFFSETTO:+0100
TZNAME:CET
DTSTART:20261025T010000
END:STANDARD
END:VTIMEZONE
BEGIN:VEVENT
DTSTART;TZID=Europe/Madrid:20251220T180000
DTEND;TZID=Europe/Madrid:20251220T190000
DTSTAMP:20260419T153307
CREATED:20251119T131143Z
LAST-MODIFIED:20251119T131143Z
UID:12870-1766253600-1766257200@centrodeltitere.com
SUMMARY:Taller de creación: crea un títere-piña
DESCRIPTION:Crea un divertido títere-piña y dota de personalidad propia a tu simpático personaje con diversos accesorios. \nPodrás llevarte a casa tu creación y utilizarla para poner un toque titiritero en tu decoración navideña. \nEntradas\nEn nuestra web y en la taquilla del Centro del Títere (solo pago en efectivo). Esta es una actividad solo para niños/as\, no para adultos.
URL:https://centrodeltitere.com/agenda/taller-de-creacion-crea-un-titere-pina/
CATEGORIES:Taller infantil
ATTACH;FMTTYPE=image/jpeg:https://centrodeltitere.com/wp-content/uploads/2025/11/taller-titere-pinia-navidad-2025-scaled.jpg
END:VEVENT
END:VCALENDAR