BEGIN:VCALENDAR
VERSION:2.0
PRODID:-//Centro del Titere - ECPv6.15.20//NONSGML v1.0//EN
CALSCALE:GREGORIAN
METHOD:PUBLISH
X-WR-CALNAME:Centro del Titere
X-ORIGINAL-URL:https://centrodeltitere.com
X-WR-CALDESC:Eventos para Centro del Titere
REFRESH-INTERVAL;VALUE=DURATION:PT1H
X-Robots-Tag:noindex
X-PUBLISHED-TTL:PT1H
BEGIN:VTIMEZONE
TZID:Europe/Madrid
BEGIN:DAYLIGHT
TZOFFSETFROM:+0100
TZOFFSETTO:+0200
TZNAME:CEST
DTSTART:20240331T010000
END:DAYLIGHT
BEGIN:STANDARD
TZOFFSETFROM:+0200
TZOFFSETTO:+0100
TZNAME:CET
DTSTART:20241027T010000
END:STANDARD
BEGIN:DAYLIGHT
TZOFFSETFROM:+0100
TZOFFSETTO:+0200
TZNAME:CEST
DTSTART:20250330T010000
END:DAYLIGHT
BEGIN:STANDARD
TZOFFSETFROM:+0200
TZOFFSETTO:+0100
TZNAME:CET
DTSTART:20251026T010000
END:STANDARD
BEGIN:DAYLIGHT
TZOFFSETFROM:+0100
TZOFFSETTO:+0200
TZNAME:CEST
DTSTART:20260329T010000
END:DAYLIGHT
BEGIN:STANDARD
TZOFFSETFROM:+0200
TZOFFSETTO:+0100
TZNAME:CET
DTSTART:20261025T010000
END:STANDARD
END:VTIMEZONE
BEGIN:VEVENT
DTSTART;TZID=Europe/Madrid:20251228T113000
DTEND;TZID=Europe/Madrid:20251228T123000
DTSTAMP:20260421T123548
CREATED:20251119T131228Z
LAST-MODIFIED:20251127T121548Z
UID:12875-1766921400-1766925000@centrodeltitere.com
SUMMARY:Taller bebés: 'Vienen renos por la nieve... ¡Hey\, hey\, Navidad!'
DESCRIPTION:Sobre el taller\nJunto al hogar pasan las horas… Tic-tac\, tic-tac… Los duendes del invierno están preparando toda la magia de la Navidad: los copos de nieve bailan\, los árboles se adornan\, suenan los cascabeles… ¿Nos asomamos a la fiesta?  ¡Ven a celebrar en familia la llegada del invierno con muchos villancicos y sorpresas navideñas! \nEn este taller para bebés de 0 a 3 años nos sumergiremos en un espacio musical y sensorial a través de canciones\, ritmos y experiencias táctiles y auditivas en un ambiente navideño. Este sorprendente viaje sonoro estará acompañado por títeres y marionetas que nos mostrarán diversos instrumentos y objetos para jugar con el ritmo y los sonidos. \n\nLa dinámica del taller está basada en el método del músico y pedagogo Edwin Gordon\, que investigó el proceso de aprendizaje musical en los niños/as desde el nacimiento. \nUn taller en familia que fomenta la curiosidad e impulsa el descubrimiento de los más pequeños/as. \nSe recomienda venir con ropa cómoda\, y con ganas de jugar y disfrutar con la música. \nSobre la creadora\nEl taller será impartido por la Veronika Veseláková\, profesora de música\, canto y movimiento. \n+ info de la creadora http://www.creacontuvoz.com \nEntradas\nEn nuestra web y en la taquilla del Centro del Títere (solo pago en efectivo). No se permitirá la entrada a adultos solos.
URL:https://centrodeltitere.com/agenda/taller-bebes-vienen-renos-por-la-nieve-hey-hey-navidad-2025/
CATEGORIES:Bebés
ATTACH;FMTTYPE=image/jpeg:https://centrodeltitere.com/wp-content/uploads/2025/11/taller-renos-navidad-2025.jpg
END:VEVENT
END:VCALENDAR