BEGIN:VCALENDAR
VERSION:2.0
PRODID:-//Centro del Titere - ECPv6.15.20//NONSGML v1.0//EN
CALSCALE:GREGORIAN
METHOD:PUBLISH
X-WR-CALNAME:Centro del Titere
X-ORIGINAL-URL:https://centrodeltitere.com
X-WR-CALDESC:Eventos para Centro del Titere
REFRESH-INTERVAL;VALUE=DURATION:PT1H
X-Robots-Tag:noindex
X-PUBLISHED-TTL:PT1H
BEGIN:VTIMEZONE
TZID:Europe/Madrid
BEGIN:DAYLIGHT
TZOFFSETFROM:+0100
TZOFFSETTO:+0200
TZNAME:CEST
DTSTART:20250330T010000
END:DAYLIGHT
BEGIN:STANDARD
TZOFFSETFROM:+0200
TZOFFSETTO:+0100
TZNAME:CET
DTSTART:20251026T010000
END:STANDARD
BEGIN:DAYLIGHT
TZOFFSETFROM:+0100
TZOFFSETTO:+0200
TZNAME:CEST
DTSTART:20260329T010000
END:DAYLIGHT
BEGIN:STANDARD
TZOFFSETFROM:+0200
TZOFFSETTO:+0100
TZNAME:CET
DTSTART:20261025T010000
END:STANDARD
BEGIN:DAYLIGHT
TZOFFSETFROM:+0100
TZOFFSETTO:+0200
TZNAME:CEST
DTSTART:20270328T010000
END:DAYLIGHT
BEGIN:STANDARD
TZOFFSETFROM:+0200
TZOFFSETTO:+0100
TZNAME:CET
DTSTART:20271031T010000
END:STANDARD
END:VTIMEZONE
BEGIN:VEVENT
DTSTART;TZID=Europe/Madrid:20260125T113000
DTEND;TZID=Europe/Madrid:20260125T123000
DTSTAMP:20260419T163958
CREATED:20251224T095355Z
LAST-MODIFIED:20251224T095355Z
UID:13057-1769340600-1769344200@centrodeltitere.com
SUMMARY:Taller bebés: 'El cocinero Otto... ¡Ay\, qué alboroto!'
DESCRIPTION:Sobre el taller\nPon las manos en la masa y ven a ver lo que pasa en la cocina de Otto… ¡Qué alboroto! \nEn este taller para bebés de 0 a 3 años nos sumergiremos en un espacio musical y sensorial a través de canciones\, ritmos y experiencias táctiles y auditivas. Este sorprendente viaje sonoro estará acompañado por títeres y marionetas que nos mostrarán diversos instrumentos y objetos para jugar con el ritmo y los sonidos. \nLa dinámica del taller está basada en el método del músico y pedagogo Edwin Gordon\, que investigó el proceso de aprendizaje musical en los niños/as desde el nacimiento. Un taller que fomenta la curiosidad e impulsa el descubrimiento de los más pequeños/as. \nSe recomienda venir con ropa cómoda\, y con ganas de jugar y disfrutar con la música. Cada mes ofrecemos un taller para bebés. Los talleres para bebés de títeres y música son recurrentes en nuestra programación. Puedes repetir y tomarlos tantas veces como quieras para disfrutar nuevamente de la experiencia. \n\nSobre la creadora\nEl taller será impartido por la Veronika Veseláková\, profesora de música\, canto y movimiento. \n+ info de la creadora http://www.creacontuvoz.com \nEntradas\nEn nuestra web y en la taquilla del Centro del Títere (solo pago en efectivo). La entrada es válida para un bebé y uno o dos adultos acompañantes. No se permitirá el acceso a la sala de adultos solos.
URL:https://centrodeltitere.com/agenda/taller-bebes-el-cocinero-otto-enero-2026/
CATEGORIES:Bebés
ATTACH;FMTTYPE=image/jpeg:https://centrodeltitere.com/wp-content/uploads/2025/01/taller-bebes-otto.jpg
END:VEVENT
END:VCALENDAR