BEGIN:VCALENDAR
VERSION:2.0
PRODID:-//Centro del Titere - ECPv6.15.20//NONSGML v1.0//EN
CALSCALE:GREGORIAN
METHOD:PUBLISH
X-WR-CALNAME:Centro del Titere
X-ORIGINAL-URL:https://centrodeltitere.com
X-WR-CALDESC:Eventos para Centro del Titere
REFRESH-INTERVAL;VALUE=DURATION:PT1H
X-Robots-Tag:noindex
X-PUBLISHED-TTL:PT1H
BEGIN:VTIMEZONE
TZID:Europe/Madrid
BEGIN:DAYLIGHT
TZOFFSETFROM:+0100
TZOFFSETTO:+0200
TZNAME:CEST
DTSTART:20230326T010000
END:DAYLIGHT
BEGIN:STANDARD
TZOFFSETFROM:+0200
TZOFFSETTO:+0100
TZNAME:CET
DTSTART:20231029T010000
END:STANDARD
BEGIN:DAYLIGHT
TZOFFSETFROM:+0100
TZOFFSETTO:+0200
TZNAME:CEST
DTSTART:20240331T010000
END:DAYLIGHT
BEGIN:STANDARD
TZOFFSETFROM:+0200
TZOFFSETTO:+0100
TZNAME:CET
DTSTART:20241027T010000
END:STANDARD
BEGIN:DAYLIGHT
TZOFFSETFROM:+0100
TZOFFSETTO:+0200
TZNAME:CEST
DTSTART:20250330T010000
END:DAYLIGHT
BEGIN:STANDARD
TZOFFSETFROM:+0200
TZOFFSETTO:+0100
TZNAME:CET
DTSTART:20251026T010000
END:STANDARD
END:VTIMEZONE
BEGIN:VEVENT
DTSTART;TZID=Europe/Madrid:20240518T190000
DTEND;TZID=Europe/Madrid:20240518T200000
DTSTAMP:20260424T104314
CREATED:20240513T112053Z
LAST-MODIFIED:20240530T121549Z
UID:7367-1716058800-1716062400@centrodeltitere.com
SUMMARY:Puppet Club: concierto especial Día de los Museos
DESCRIPTION:Celebra el día de los museos a ritmo de clásicos boleros y músicas de Brasil como la bossanova y la samba con un concierto a cargo del Carol Dubois Dúo. El Centro del Títere se convierte en un Puppet Club en el que disfrutar de música en directo rodeados de los títeres de las actuales exposiciones con una copa de vino en la mano. La voz de Carolina Dubois y el piano de Benjamín Rosado nos permitirán disfrutar de las piezas con otros ojos. \nPodría ser un evento de la calle 52 de Nueva York\, pero estamos más cerca: en la calle Siete Ojos de Alcorcón. \nLa entrada incluye una consumición. \nEntradas aquí y en la taquilla del Centro del Títere (solo pago en efectivo).
URL:https://centrodeltitere.com/agenda/puppet-club-concierto-especial-dia-de-los-museos/
CATEGORIES:Adulto
ATTACH;FMTTYPE=image/jpeg:https://centrodeltitere.com/wp-content/uploads/2024/05/dia-de-los-museos.jpg
END:VEVENT
END:VCALENDAR