BEGIN:VCALENDAR
VERSION:2.0
PRODID:-//Centro del Titere - ECPv6.15.20//NONSGML v1.0//EN
CALSCALE:GREGORIAN
METHOD:PUBLISH
X-WR-CALNAME:Centro del Titere
X-ORIGINAL-URL:https://centrodeltitere.com
X-WR-CALDESC:Eventos para Centro del Titere
REFRESH-INTERVAL;VALUE=DURATION:PT1H
X-Robots-Tag:noindex
X-PUBLISHED-TTL:PT1H
BEGIN:VTIMEZONE
TZID:Europe/Madrid
BEGIN:DAYLIGHT
TZOFFSETFROM:+0100
TZOFFSETTO:+0200
TZNAME:CEST
DTSTART:20230326T010000
END:DAYLIGHT
BEGIN:STANDARD
TZOFFSETFROM:+0200
TZOFFSETTO:+0100
TZNAME:CET
DTSTART:20231029T010000
END:STANDARD
BEGIN:DAYLIGHT
TZOFFSETFROM:+0100
TZOFFSETTO:+0200
TZNAME:CEST
DTSTART:20240331T010000
END:DAYLIGHT
BEGIN:STANDARD
TZOFFSETFROM:+0200
TZOFFSETTO:+0100
TZNAME:CET
DTSTART:20241027T010000
END:STANDARD
BEGIN:DAYLIGHT
TZOFFSETFROM:+0100
TZOFFSETTO:+0200
TZNAME:CEST
DTSTART:20250330T010000
END:DAYLIGHT
BEGIN:STANDARD
TZOFFSETFROM:+0200
TZOFFSETTO:+0100
TZNAME:CET
DTSTART:20251026T010000
END:STANDARD
END:VTIMEZONE
BEGIN:VEVENT
DTSTART;TZID=Europe/Madrid:20240709T190000
DTEND;TZID=Europe/Madrid:20240709T200000
DTSTAMP:20260424T104336
CREATED:20240604T123522Z
LAST-MODIFIED:20240604T123522Z
UID:8696-1720551600-1720555200@centrodeltitere.com
SUMMARY:Presentación de libro: 'Títeres de lo imposible' de Esther Fernández
DESCRIPTION:Títeres de lo imposible de Esther Fernández\nPresentación de libro\nMartes 9 de julio | 19:00 h\nPara adultos\nActividad gratuita previa reserva aquí \nLa Escuela Internacional de Verano de UNIMA propone además de los cursos\, diversas actividades paralelas con profesionales del mundo del títere. \nEl 9 de julio acogemos la presentación del libro Títeres de los imposible\, de Esther Fernández\, de próxima aparición en la editorial Reichenberger. El encuentro contará con la presencia de la autora y estará presentado por el titiritero Jesús Caballero. \nTíteres de lo imposible examina la función del objeto animado en contextos ceremoniales y teatrales durante los siglos XVI y XVII a través del prisma de la literatura\, la cultura visual y material\, y la puesta en escena. El libro recorre distintos tipos de figuras como las tallas religiosas articuladas\, las hagiografías a base de títeres\, los retablos de marionetas cervantinos o singulares autómatas\, y analiza la fascinación de la animación por parte del ser humano. \nEsther Fernández es doctora por la Universidad de California-Davis y ha sido profesora de literatura en diversas universidades de EE.UU. En la actualidad es investigadora en el Institute for Research in the Humanities en la Universidad de Wisconsin-Madison y está especializada en el teatro del Siglo de Oro combinando el análisis teórico de las artes escénicas y los estudios culturales. El libro que presenta ha sido galardonado con el Vern Williamsen Comedia Book Prize\, Association for Hispanic Classical Theater en 2023\, así como con el Nancy Staub Award 2023\, UNIMA-USA (Union Internationale de la Marionnette). \nUn encuentro para pensar sobre los títeres\, lo inanimado y lo que nos (con)mueve. \nEntradas\nLa presentación es de entrada libre previa reserva de invitaciones aquí. \nY además…\nTe puede interesar el encuentro con la titiritera sudafricana Janni Younge dentro de la programación de la Escuela de Verano de UNIMA que acoge el Centro del Títere.
URL:https://centrodeltitere.com/agenda/presentacion-de-libro-titeres-de-lo-imposible-de-esther-fernandez/
CATEGORIES:Adulto,Presentación libro
ATTACH;FMTTYPE=image/jpeg:https://centrodeltitere.com/wp-content/uploads/2024/06/presentacion-libro-titeres-imposible.jpg
END:VEVENT
END:VCALENDAR