BEGIN:VCALENDAR
VERSION:2.0
PRODID:-//Centro del Titere - ECPv6.15.20//NONSGML v1.0//EN
CALSCALE:GREGORIAN
METHOD:PUBLISH
X-WR-CALNAME:Centro del Titere
X-ORIGINAL-URL:https://centrodeltitere.com
X-WR-CALDESC:Eventos para Centro del Titere
REFRESH-INTERVAL;VALUE=DURATION:PT1H
X-Robots-Tag:noindex
X-PUBLISHED-TTL:PT1H
BEGIN:VTIMEZONE
TZID:Europe/Madrid
BEGIN:DAYLIGHT
TZOFFSETFROM:+0100
TZOFFSETTO:+0200
TZNAME:CEST
DTSTART:20230326T010000
END:DAYLIGHT
BEGIN:STANDARD
TZOFFSETFROM:+0200
TZOFFSETTO:+0100
TZNAME:CET
DTSTART:20231029T010000
END:STANDARD
BEGIN:DAYLIGHT
TZOFFSETFROM:+0100
TZOFFSETTO:+0200
TZNAME:CEST
DTSTART:20240331T010000
END:DAYLIGHT
BEGIN:STANDARD
TZOFFSETFROM:+0200
TZOFFSETTO:+0100
TZNAME:CET
DTSTART:20241027T010000
END:STANDARD
BEGIN:DAYLIGHT
TZOFFSETFROM:+0100
TZOFFSETTO:+0200
TZNAME:CEST
DTSTART:20250330T010000
END:DAYLIGHT
BEGIN:STANDARD
TZOFFSETFROM:+0200
TZOFFSETTO:+0100
TZNAME:CET
DTSTART:20251026T010000
END:STANDARD
END:VTIMEZONE
BEGIN:VEVENT
DTSTART;TZID=Europe/Madrid:20240517T190000
DTEND;TZID=Europe/Madrid:20240517T200000
DTSTAMP:20260424T103730
CREATED:20240513T075644Z
LAST-MODIFIED:20240530T121558Z
UID:7212-1715972400-1715976000@centrodeltitere.com
SUMMARY:Presentación de libro: 'El dios manipulable' de Sergio Artero
DESCRIPTION:Sergio Artero -poeta\, actor y director teatral\, integrante de la compañía Saltatium Teatro– presenta en primicia su libro El dios manipulable\, un ensayo transdisciplinar sobre muñecos articulado desde la historia\, la filosofía\, la antropología y la psicología. El libro aborda el estudio del muñeco como representación antropomórfica manipulable del imaginario simbólico y social de cada época histórica hasta la actualidad. La obra cuenta con el prólogo del titiritero e investigador Toni Rumbau y está editado por Libros Indie. \n¿Para qué nos desdoblamos en los muñecos si no es para escuchar lo\nque ellos tienen que decirnos sobre nosotros\, sobre el mundo y sobre el futuro?\nClaro que no todas las personas están dispuestas a escuchar\, pero los buenos\ntitiriteros entienden que todo lo que saben\, mayormente lo han aprendido de las\npropias criaturas que crearon con sus manos\, o que compraron en un rastro de\nuna ciudad cualquiera. Es la ley del espejo y de la reflexión\, que constituye la base\nde esta modalidad teatral que llamamos la Marioneta. \nDel prólogo escrito por Toni Rumbau \nLa presentación estará acompañada de unas escenas de títeres de guante a modo de ilustración a cargo de Sonia Zubiaga\, titiritera fundadora de la compañía La Pícara Locuela. \n 
URL:https://centrodeltitere.com/agenda/presentacion-de-libro-el-dios-manipulable-de-sergio-artero/
CATEGORIES:Adulto,Presentación libro
ATTACH;FMTTYPE=image/jpeg:https://centrodeltitere.com/wp-content/uploads/2024/05/presentacion-libro-artero.jpg
END:VEVENT
END:VCALENDAR