BEGIN:VCALENDAR
VERSION:2.0
PRODID:-//Centro del Titere - ECPv6.15.20//NONSGML v1.0//EN
CALSCALE:GREGORIAN
METHOD:PUBLISH
X-WR-CALNAME:Centro del Titere
X-ORIGINAL-URL:https://centrodeltitere.com
X-WR-CALDESC:Eventos para Centro del Titere
REFRESH-INTERVAL;VALUE=DURATION:PT1H
X-Robots-Tag:noindex
X-PUBLISHED-TTL:PT1H
BEGIN:VTIMEZONE
TZID:Europe/Madrid
BEGIN:DAYLIGHT
TZOFFSETFROM:+0100
TZOFFSETTO:+0200
TZNAME:CEST
DTSTART:20250330T010000
END:DAYLIGHT
BEGIN:STANDARD
TZOFFSETFROM:+0200
TZOFFSETTO:+0100
TZNAME:CET
DTSTART:20251026T010000
END:STANDARD
BEGIN:DAYLIGHT
TZOFFSETFROM:+0100
TZOFFSETTO:+0200
TZNAME:CEST
DTSTART:20260329T010000
END:DAYLIGHT
BEGIN:STANDARD
TZOFFSETFROM:+0200
TZOFFSETTO:+0100
TZNAME:CET
DTSTART:20261025T010000
END:STANDARD
BEGIN:DAYLIGHT
TZOFFSETFROM:+0100
TZOFFSETTO:+0200
TZNAME:CEST
DTSTART:20270328T010000
END:DAYLIGHT
BEGIN:STANDARD
TZOFFSETFROM:+0200
TZOFFSETTO:+0100
TZNAME:CET
DTSTART:20271031T010000
END:STANDARD
END:VTIMEZONE
BEGIN:VEVENT
DTSTART;TZID=Europe/Madrid:20260131T180000
DTEND;TZID=Europe/Madrid:20260131T190000
DTSTAMP:20260419T151432
CREATED:20251230T085211Z
LAST-MODIFIED:20251230T090127Z
UID:13087-1769882400-1769886000@centrodeltitere.com
SUMMARY:Juegos en la exposición de títeres de La Tartana Teatro
DESCRIPTION:Descubre los títeres y autómatas de La Tartana Teatro de la exposición en el Centro del Títere y diviértete con los nuevos juegos que tenemos preparados. Disfruta de los juegos creativos y de una construcción exprés. \nEntradas\nEn nuestra web y en la taquilla del Centro del Títere (solo pago en efectivo). Esta es una actividad solo para niños/as\, no para adultos.
URL:https://centrodeltitere.com/agenda/juegos-en-la-exposicion-de-titeres-de-la-tartana-teatro/
CATEGORIES:Infantil
ATTACH;FMTTYPE=image/jpeg:https://centrodeltitere.com/wp-content/uploads/2025/12/Expo_tartana_32-scaled.jpg
END:VEVENT
END:VCALENDAR