BEGIN:VCALENDAR
VERSION:2.0
PRODID:-//Centro del Titere - ECPv6.15.20//NONSGML v1.0//EN
CALSCALE:GREGORIAN
METHOD:PUBLISH
X-WR-CALNAME:Centro del Titere
X-ORIGINAL-URL:https://centrodeltitere.com
X-WR-CALDESC:Eventos para Centro del Titere
REFRESH-INTERVAL;VALUE=DURATION:PT1H
X-Robots-Tag:noindex
X-PUBLISHED-TTL:PT1H
BEGIN:VTIMEZONE
TZID:Europe/Madrid
BEGIN:DAYLIGHT
TZOFFSETFROM:+0100
TZOFFSETTO:+0200
TZNAME:CEST
DTSTART:20230326T010000
END:DAYLIGHT
BEGIN:STANDARD
TZOFFSETFROM:+0200
TZOFFSETTO:+0100
TZNAME:CET
DTSTART:20231029T010000
END:STANDARD
BEGIN:DAYLIGHT
TZOFFSETFROM:+0100
TZOFFSETTO:+0200
TZNAME:CEST
DTSTART:20240331T010000
END:DAYLIGHT
BEGIN:STANDARD
TZOFFSETFROM:+0200
TZOFFSETTO:+0100
TZNAME:CET
DTSTART:20241027T010000
END:STANDARD
BEGIN:DAYLIGHT
TZOFFSETFROM:+0100
TZOFFSETTO:+0200
TZNAME:CEST
DTSTART:20250330T010000
END:DAYLIGHT
BEGIN:STANDARD
TZOFFSETFROM:+0200
TZOFFSETTO:+0100
TZNAME:CET
DTSTART:20251026T010000
END:STANDARD
END:VTIMEZONE
BEGIN:VEVENT
DTSTART;TZID=Europe/Madrid:20240523T190000
DTEND;TZID=Europe/Madrid:20240523T200000
DTSTAMP:20260424T103630
CREATED:20240513T112437Z
LAST-MODIFIED:20240530T121540Z
UID:7375-1716490800-1716494400@centrodeltitere.com
SUMMARY:Espectáculo: ‘Transfigura’ de Proyecto Mariposa
DESCRIPTION:Sobre el espectáculo\nTransfigura es un espectáculo de títeres y objetos para adultos\, una propuesta escénica itinerante e inmersiva que transita por las galerías íntimas de la psique femenina abordando de manera sensible y poética la pérdida de los hijos e hijas dentro o fuera del vientre. Un viaje interior para un grupo reducido de 30 espectadores en el que poder despedir el duelo y comprender el ciclo vida-muerte-vida. \nSobre la compañía\nProyecto Mariposa es una compañía peruana fundada en 2005 dedicada a la creación y difusión del arte\, aportando a la construcción de una sociedad más sensible\, humana\, reflexiva y consciente. Para ello desarrolla proyectos de arte escénico con tendencia interdisciplinaria y transdisciplinaria\, trabajando cuidadosamente los lenguajes artísticos que utiliza\, respetando su naturaleza narrativa. \nHa realizado proyectos de arte y género\, apreciación artística\, espiritualidad y rito\, e innovación en arte-educación\, abordando temáticas de identidad\, memoria\, género\, interculturalidad\, desarrollo emocional y espiritual\, derechos humanos y buen vivir. \nEntradas/Reservas\nEn nuestra web y en la taquilla del Centro del Títere (solo pago en efectivo).
URL:https://centrodeltitere.com/agenda/espectaculo-transfigura-de-proyecto-mariposa/
CATEGORIES:Espectáculo adultos
ATTACH;FMTTYPE=image/jpeg:https://centrodeltitere.com/wp-content/uploads/2024/05/transfigura-agenda.jpg
END:VEVENT
END:VCALENDAR