BEGIN:VCALENDAR
VERSION:2.0
PRODID:-//Centro del Titere - ECPv6.15.20//NONSGML v1.0//EN
CALSCALE:GREGORIAN
METHOD:PUBLISH
X-WR-CALNAME:Centro del Titere
X-ORIGINAL-URL:https://centrodeltitere.com
X-WR-CALDESC:Eventos para Centro del Titere
REFRESH-INTERVAL;VALUE=DURATION:PT1H
X-Robots-Tag:noindex
X-PUBLISHED-TTL:PT1H
BEGIN:VTIMEZONE
TZID:Europe/Madrid
BEGIN:DAYLIGHT
TZOFFSETFROM:+0100
TZOFFSETTO:+0200
TZNAME:CEST
DTSTART:20230326T010000
END:DAYLIGHT
BEGIN:STANDARD
TZOFFSETFROM:+0200
TZOFFSETTO:+0100
TZNAME:CET
DTSTART:20231029T010000
END:STANDARD
BEGIN:DAYLIGHT
TZOFFSETFROM:+0100
TZOFFSETTO:+0200
TZNAME:CEST
DTSTART:20240331T010000
END:DAYLIGHT
BEGIN:STANDARD
TZOFFSETFROM:+0200
TZOFFSETTO:+0100
TZNAME:CET
DTSTART:20241027T010000
END:STANDARD
BEGIN:DAYLIGHT
TZOFFSETFROM:+0100
TZOFFSETTO:+0200
TZNAME:CEST
DTSTART:20250330T010000
END:DAYLIGHT
BEGIN:STANDARD
TZOFFSETFROM:+0200
TZOFFSETTO:+0100
TZNAME:CET
DTSTART:20251026T010000
END:STANDARD
END:VTIMEZONE
BEGIN:VEVENT
DTSTART;TZID=Europe/Madrid:20240928T180000
DTEND;TZID=Europe/Madrid:20240928T190000
DTSTAMP:20260421T122511
CREATED:20240722T121603Z
LAST-MODIFIED:20240729T111628Z
UID:9650-1727546400-1727550000@centrodeltitere.com
SUMMARY:Espectáculo: 'Balzac y la joven costurera china'
DESCRIPTION:Sobre el espectáculo\nDos adolescentes chinos son separados de sus familias y trasladados a la fuerza a una aldea perdida en la montañas. Allí tendrán que acostumbrarse a trabajar en durísimas condiciones. Sin embargo\, todo cambia cuando descubren su capacidad para contar historias a través de unos libros que serán la puerta a sentimientos desconocidos. Entonces las vida de los dos muchachos y de su amiga la costurera avanzarán irremediablemente hacia la libertad. \nUn espectáculo de títeres\, teatro de sombras y proyecciones para todos los públicos que es una celebración de la capacidad humana de contar historias y de cómo las ficciones expanden nuestros horizontes y hacen crecer nuestra empatía. \n\n \nSobre la compañía\nCompañía segoviana fundada en 2008 que\, fiel a su “arte de saltar»\,  ha generado todo tipo de espectáculos en estilos y formatos tanto para público infantil como adulto. Además\, durante cinco años la compañía dirigió el Festival del Muñeco / Cine de Pigmalión. \n+ info de la compañía https://saltatium.es/ \nEntradas\nEn nuestra web y en la taquilla del Centro del Títere (solo pago en efectivo).
URL:https://centrodeltitere.com/agenda/espectaculo-balzac-y-la-joven-costurera-china/
CATEGORIES:Espectáculo familiar
ATTACH;FMTTYPE=image/jpeg:https://centrodeltitere.com/wp-content/uploads/2024/07/balzac6.jpg
END:VEVENT
END:VCALENDAR