BEGIN:VCALENDAR
VERSION:2.0
PRODID:-//Centro del Titere - ECPv6.15.20//NONSGML v1.0//EN
CALSCALE:GREGORIAN
METHOD:PUBLISH
X-WR-CALNAME:Centro del Titere
X-ORIGINAL-URL:https://centrodeltitere.com
X-WR-CALDESC:Eventos para Centro del Titere
REFRESH-INTERVAL;VALUE=DURATION:PT1H
X-Robots-Tag:noindex
X-PUBLISHED-TTL:PT1H
BEGIN:VTIMEZONE
TZID:Europe/Madrid
BEGIN:DAYLIGHT
TZOFFSETFROM:+0100
TZOFFSETTO:+0200
TZNAME:CEST
DTSTART:20240331T010000
END:DAYLIGHT
BEGIN:STANDARD
TZOFFSETFROM:+0200
TZOFFSETTO:+0100
TZNAME:CET
DTSTART:20241027T010000
END:STANDARD
BEGIN:DAYLIGHT
TZOFFSETFROM:+0100
TZOFFSETTO:+0200
TZNAME:CEST
DTSTART:20250330T010000
END:DAYLIGHT
BEGIN:STANDARD
TZOFFSETFROM:+0200
TZOFFSETTO:+0100
TZNAME:CET
DTSTART:20251026T010000
END:STANDARD
BEGIN:DAYLIGHT
TZOFFSETFROM:+0100
TZOFFSETTO:+0200
TZNAME:CEST
DTSTART:20260329T010000
END:DAYLIGHT
BEGIN:STANDARD
TZOFFSETFROM:+0200
TZOFFSETTO:+0100
TZNAME:CET
DTSTART:20261025T010000
END:STANDARD
END:VTIMEZONE
BEGIN:VEVENT
DTSTART;TZID=Europe/Madrid:20250524T120000
DTEND;TZID=Europe/Madrid:20250524T140000
DTSTAMP:20260421T123236
CREATED:20250403T095213Z
LAST-MODIFIED:20250519T075914Z
UID:10000111-1748088000-1748095200@centrodeltitere.com
SUMMARY:La plaza de los títeres. Edición primavera
DESCRIPTION:Los títeres conquistan la plaza Siete Ojos del Centro del Títere y salen a tu encuentro. Ven a disfrutar de este festivo evento para todos los públicos que incluye espectáculos\, títeres gigantes\, un mercadillo artesano de títeres\, una feria de libros titiriteros y otras sorpresas. ¡Participa en la gran fiesta de los títeres! \nEspectáculos\nDisfruta de obras cortas de títeres y descubre a varias compañías que nos contarán pequeñas grandes historias. \nVaranda Teatro llega desde Brasil con su original propuesta de teatro lambe lambe\, un teatro para un único espectador: asómate a las pequeñas cajas escénicas y sorpréndete con sus historias. Además\, tendremos una propuesta de circo a cargo de Accidental Company y el cuento clásico de Hansel y Gretel contado con títeres de guante por La Tercera. Y podrás disfrutar también de una singular marioneta de hilo y del desfile de los increíbles títeres gigantes. \nMercadillo de títeres\nLlévate un recuerdo entre las diversas creaciones titiriteras construidas por artesanos. \nFeria de libros\nDescubre las publicaciones de títeres de la Plaza de los Títeres. \nEntradas\nLa entrada es libre para los espectáculos y el resto de actividades.
URL:https://centrodeltitere.com/agenda/la-plaza-de-los-titeres-edicion-primavera/
CATEGORIES:Adulto,Familiar,Infantil
ATTACH;FMTTYPE=image/jpeg:https://centrodeltitere.com/wp-content/uploads/2025/04/plaza-titeres-primavera-2025-scaled.jpg
END:VEVENT
END:VCALENDAR