BEGIN:VCALENDAR
VERSION:2.0
PRODID:-//Centro del Titere - ECPv6.15.20//NONSGML v1.0//EN
CALSCALE:GREGORIAN
METHOD:PUBLISH
X-ORIGINAL-URL:https://centrodeltitere.com
X-WR-CALDESC:Eventos para Centro del Titere
REFRESH-INTERVAL;VALUE=DURATION:PT1H
X-Robots-Tag:noindex
X-PUBLISHED-TTL:PT1H
BEGIN:VTIMEZONE
TZID:Europe/Madrid
BEGIN:DAYLIGHT
TZOFFSETFROM:+0100
TZOFFSETTO:+0200
TZNAME:CEST
DTSTART:20240331T010000
END:DAYLIGHT
BEGIN:STANDARD
TZOFFSETFROM:+0200
TZOFFSETTO:+0100
TZNAME:CET
DTSTART:20241027T010000
END:STANDARD
BEGIN:DAYLIGHT
TZOFFSETFROM:+0100
TZOFFSETTO:+0200
TZNAME:CEST
DTSTART:20250330T010000
END:DAYLIGHT
BEGIN:STANDARD
TZOFFSETFROM:+0200
TZOFFSETTO:+0100
TZNAME:CET
DTSTART:20251026T010000
END:STANDARD
BEGIN:DAYLIGHT
TZOFFSETFROM:+0100
TZOFFSETTO:+0200
TZNAME:CEST
DTSTART:20260329T010000
END:DAYLIGHT
BEGIN:STANDARD
TZOFFSETFROM:+0200
TZOFFSETTO:+0100
TZNAME:CET
DTSTART:20261025T010000
END:STANDARD
END:VTIMEZONE
BEGIN:VEVENT
DTSTART;TZID=Europe/Madrid:20250425T190000
DTEND;TZID=Europe/Madrid:20250425T210000
DTSTAMP:20260419T152721
CREATED:20250228T112229Z
LAST-MODIFIED:20250415T083455Z
UID:10000105-1745607600-1745614800@centrodeltitere.com
SUMMARY:La Noche de los Libros 2025
DESCRIPTION:El Centro del Títere se suma a la celebración del día del libro con una variada propuesta de actividades para adultos en la mágica noche de los libros. \nMuestra escénica\nLos participantes del taller de Dramaturgia documental para el teatro de objetos realizan una muestra abierta al público de las piezas creadas en el taller. Se trata de una sesión íntima e irrepetible para celebrar el día del libro que nos permite realizar un recorrido único por las instalaciones poético-objetuales de la mano de sus creadores. \nPresentación de libro y lecturas\nPresentación del tercer volumen de Dramaturgia contemporánea para teatro de títeres y teatro de objetos editado por Ediciones Antígona\, con la presencia de: Conchita Piña (fundadora de Ediciones Antígona)\, Adolfo Simón (director del Centro Dramático Rural) y Ana Fernández Valbuena (dramaturga\, docente e investigadora). \nEsta colección surge en el año 2020 a partir del Certamen de textos breves Francisco Nieva que convoca el Centro Dramático Rural de Mira (Cuenca) que impulsa estas nuevas dramaturgias y el presente volumen cuenta además con un texto de la prestigiosa creadora y docente del teatro de títeres argentina Ana Alvarado. \nLa presentación contará además con la lectura de algunos de los textos premiados a cargo de sus autores/as y una mesa redonda en la que charlaremos de libros\, títeres\, objetos y teatro. \nEntradas\nLa entrada a las actividades de la noche de los libros es gratuita\, previa reserva. Puedes reservar tus entradas aquí y en la taquilla del Centro del Títere. \n  \nEsta actividad forma parte de la programación de La Noche de los Libros \n \n 
URL:https://centrodeltitere.com/agenda/la-noche-de-los-libros-2025/
CATEGORIES:Adulto
ATTACH;FMTTYPE=image/png:https://centrodeltitere.com/wp-content/uploads/2025/02/noche-libros-2025.png
END:VEVENT
END:VCALENDAR